BEGIN:VCALENDAR
VERSION:2.0
PRODID:-//Rock Lake Earth Lodge - ECPv6.15.20//NONSGML v1.0//EN
CALSCALE:GREGORIAN
METHOD:PUBLISH
X-ORIGINAL-URL:https://rocklakeearthlodge.com
X-WR-CALDESC:Events for Rock Lake Earth Lodge
REFRESH-INTERVAL;VALUE=DURATION:PT1H
X-Robots-Tag:noindex
X-PUBLISHED-TTL:PT1H
BEGIN:VTIMEZONE
TZID:UTC
BEGIN:STANDARD
TZOFFSETFROM:+0000
TZOFFSETTO:+0000
TZNAME:UTC
DTSTART:20220101T000000
END:STANDARD
END:VTIMEZONE
BEGIN:VTIMEZONE
TZID:America/Edmonton
BEGIN:DAYLIGHT
TZOFFSETFROM:-0700
TZOFFSETTO:-0600
TZNAME:MDT
DTSTART:20220313T090000
END:DAYLIGHT
BEGIN:STANDARD
TZOFFSETFROM:-0600
TZOFFSETTO:-0700
TZNAME:MST
DTSTART:20221106T080000
END:STANDARD
BEGIN:DAYLIGHT
TZOFFSETFROM:-0700
TZOFFSETTO:-0600
TZNAME:MDT
DTSTART:20230312T090000
END:DAYLIGHT
BEGIN:STANDARD
TZOFFSETFROM:-0600
TZOFFSETTO:-0700
TZNAME:MST
DTSTART:20231105T080000
END:STANDARD
BEGIN:DAYLIGHT
TZOFFSETFROM:-0700
TZOFFSETTO:-0600
TZNAME:MDT
DTSTART:20240310T090000
END:DAYLIGHT
BEGIN:STANDARD
TZOFFSETFROM:-0600
TZOFFSETTO:-0700
TZNAME:MST
DTSTART:20241103T080000
END:STANDARD
END:VTIMEZONE
BEGIN:VEVENT
DTSTART;TZID=UTC:20250502T100000
DTEND;TZID=UTC:20250504T180000
DTSTAMP:20260424T093200
CREATED:20250325T145242Z
LAST-MODIFIED:20250417T043137Z
UID:2187-1746180000-1746381600@rocklakeearthlodge.com
SUMMARY:AOAE Family Weekend Gathering at Rock Lake
DESCRIPTION:—Saturday—\nKickoff 1pm\nRock LakEarthLodge\nHorse Rides\nPlease prebook your ride by April 20\nHiking & Kayaking Opportunities\nBouncy Houses\nGames until 4pm\nCornhole\, Tug-of-War\, Horseshoes\, Jenga Presentations 5-6pm\nWhat is Rock Lake Earth Lodge & it’s history\nPotluck Supper 6-7pm\nBring your favourite dish!\nStorytelling 7-8:30pm\nWhy chase your dream with Brody and Cheanise Bestluck\nWith smores and popcorn!\nOutdoor Evening Movie 9pm\nCollective Campfire 9pm \n—Sunday—\nMountain View Coffee Chat 7am\nDonation Pancake Breakfast 8-10am\nPancakes\nEggs\nHashbrowns\nPork sausage\nOatmeal\nFresh fruit\nCoffee\nJuice\nClosing Remarks 11am\nCheckout 12pm \n*Fishing at Rock Lake will not be open during the event \n—Accommodations—\nRent Cabins or Rooms at\nRock Lake Earth Lodge\n(825) 600-5161\nwww.rocklakeearthlodge.com\nBook Campsites at the Rock Lake Provincial Park\n(10 minutes away)\n(780) 865-2154\n*Tell them you are with the AOAE \n—Rock Lake Earth Lodge Amenities—\nAvailable For Use at the Event:\nWood Saunas\nTraeger’s at the cabins\nWood Pizza Oven\nIndoor Bar\nOutdoor Bar\nStarlink
URL:https://rocklakeearthlodge.com/special-event/aoae-rock-lake-gathering-2025/
LOCATION:Rock Lake Earth Lodge\, Rock Lake\, AB\, T0E 0C0\, Canada
ATTACH;FMTTYPE=image/jpeg:https://rocklakeearthlodge.com/wp-content/uploads/2025/03/480810530_944641264506335_4815803664936664727_n.jpg
ORGANIZER;CN="Rock Lake Earth Lodge":MAILTO:info@rocklakearthlodge.com
END:VEVENT
BEGIN:VEVENT
DTSTART;TZID=UTC:20231209T110000
DTEND;TZID=UTC:20231209T160000
DTSTAMP:20260424T093200
CREATED:20231119T224201Z
LAST-MODIFIED:20231202T162114Z
UID:1083-1702119600-1702137600@rocklakeearthlodge.com
SUMMARY:Wood Carving Workshop (Dec 9th)
DESCRIPTION:Join our beginner-friendly Wood Carving Workshop at Rock Lake! \n🗓️ When: Saturday Dec 9th\, 11am – 4pm\n🏞️ Where: Rock Lake Earth Lodge \nWorkshop highlights include hands-on practice\, cultural carving history\, and personal guidance. Plus\, an exclusive deal for families – buy an adult ticket\, and your child (12+) joins FREE! \nWhat you can expect:\n✔︎ Brief history of wood carving across different cultures.\n✔︎ Types of wood and tools used in wood carving.\n✔︎ Safety guidelines and tool demonstration.\n✔︎ Introduction to basic carving strokes.\n✔︎ Hands-on practice with carving techniques. \nEach participant will leave with there very own hand carved creation! \n🏔️ Enjoy the beauty of Rock Lake while learning a useful skill. \nGrab your ticket via the link & Unlock the carver in you! \nGRAB YOUR TICKETS ON EVENT BRIGHT HERE: Wood Carving Workshop (Dec 9th) \n 
URL:https://rocklakeearthlodge.com/special-event/wood-carving-workshop-dec-9th/
LOCATION:Rock Lake Earth Lodge\, Rock Lake\, AB\, T0E 0C0\, Canada
ORGANIZER;CN="Rock Lake Earth Lodge":MAILTO:info@rocklakearthlodge.com
END:VEVENT
BEGIN:VEVENT
DTSTART;TZID=UTC:20231201T110000
DTEND;TZID=UTC:20231203T170000
DTSTAMP:20260424T093200
CREATED:20231103T051129Z
LAST-MODIFIED:20231103T051129Z
UID:956-1701428400-1701622800@rocklakeearthlodge.com
SUMMARY:Christmas Market
DESCRIPTION:Come and join us at Rock Lake Earth Lodge for a joy-filled Christmas Market and rendezvous in the stunning Rock Lake Provincial Park\, Alberta\, Canada. Experience the festive vibes as you stroll through a wide array of stalls featuring one-of-a-kind gifts\, handcrafted goodies\, and scrumptious treats. Whether you’re on the hunt for that ideal gift or just want to soak up the merry atmosphere\, this event is a must-attend! \nIn addition to the delightful holiday shopping\, we’ve got even more in store for you. Enjoy thrilling dog sledding rides\, delightful sleigh rides\, memorable shots at the mini photo shoot\, and browse through Christmas vendors with all sorts of seasonal delights. Engage in outdoor games\, spread holiday cheer\, and discover the warmth of local artisans and vendors. \nMark your calendar and come celebrate the most wonderful time of the year with us in the heart of the Rockies. It’s a day of cheer\, unique finds\, and holiday fun you won’t want to miss!
URL:https://rocklakeearthlodge.com/special-event/christmas-market/
LOCATION:Rock Lake Earth Lodge\, Rock Lake\, AB\, T0E 0C0\, Canada
ORGANIZER;CN="Rock Lake Earth Lodge":MAILTO:info@rocklakearthlodge.com
END:VEVENT
BEGIN:VEVENT
DTSTART;TZID=UTC:20231103T120000
DTEND;TZID=UTC:20231105T130000
DTSTAMP:20260424T093200
CREATED:20231025T211214Z
LAST-MODIFIED:20231025T212343Z
UID:933-1699012800-1699189200@rocklakeearthlodge.com
SUMMARY:Rock Lake Earth Lodge Crafting Retreat (Nov 3-5/2023)
DESCRIPTION:Rock Lake Earth Lodge Crafting Retreat \nDate: November 3-5\, 2022 \nLocation: Rock Lake Earth Lodge \nJoin us for the Rock Lake Earth Lodge Crafting Retreat\, a unique and immersive experience in the heart of Rock Lake Provincial Park\, Rock Lake\, AB\, Canada. This in-person event will take place from Fri Nov 03\, 2023 till Sun Nov 05\, 2023 \nEscape the hustle and bustle of everyday life and indulge in a weekend of creativity and relaxation. Whether you’re a seasoned crafter or a beginner\, this retreat is designed for everyone. Immerse yourself in nature’s beauty as you explore your artistic side. \nLocated at the stunning Rock Lake Earth Lodge\, you’ll be surrounded by breathtaking views and serene surroundings. Get inspired by the tranquil atmosphere and let your creativity flow. \nDuring the retreat\, you’ll have the opportunity to participate in various crafting workshops and classes led by experienced instructors. Learn new techniques and expand your skills in a supportive and friendly environment. \nTake breaks from crafting to connect with fellow attendees\, share stories\, and make new friends. Enjoy delicious meals prepared with locally sourced ingredients\, adding to the overall experience of this retreat. \nDon’t miss out on this unforgettable event at Rock Lake Earth Lodge. Reserve your spot now and embark on a weekend filled with creativity\, relaxation\, and connection with nature. \nEvent Details: \nCRICUT BASICS\nDate: Nov 3 2023\nPrice Per Person: $6o\nWe will be creating a\nSantas Milk & Cookies Tray\nIncluded Supplies:\n• Wooden Tray\n• Vinyl\n• Paint \nEPOXY TUMBLER\nDate: Nov 4 2023\nPrice Per Person $75\nWe will be creating a 20 ounce stainless steel tumbler over 2 sessions.\nParticipants will be creating a unique custom colored tumbler\nIncluded Supplies:\n• 1X 20 Oz Stainless steel double walled tumbler.\n• Alcohol ink (large selection of colors)\n• Epoxy resin\n• 1-4 inch decal\n• Vinyl to add your name. \nWINTER SCENE\nDate: Nov 4 2023\nPrice Per Person: $50\nWe will be creating a winter village using a 12 inch wood base.\nParticipants will be creating a winter scene using a variety of miniature animals\, trees\, wood blocks etc.\nIncluded Supplies:\n• 1X 12-inch wood base\n• A selection of miniature animals\, trees\, glitter\, paint ect.\nSimilar to photo shown but with a winter theme. \n 🏡⛰️If you are looking to book a room please submit a request on our website www.rocklakeearthlodge.com or contact us at 825 600 5161
URL:https://rocklakeearthlodge.com/special-event/rock-lake-earth-lodge-crafting-retreat/
LOCATION:Rock Lake Earth Lodge\, Rock Lake\, AB\, T0E 0C0\, Canada
ORGANIZER;CN="Rock Lake Earth Lodge":MAILTO:info@rocklakearthlodge.com
END:VEVENT
BEGIN:VEVENT
DTSTART;TZID=America/Edmonton:20231028T110000
DTEND;TZID=America/Edmonton:20231029T200000
DTSTAMP:20260424T093200
CREATED:20231021T060330Z
LAST-MODIFIED:20231025T205740Z
UID:916-1698490800-1698609600@rocklakeearthlodge.com
SUMMARY:Rock Lake Halloween Spooktacular ShinDig
DESCRIPTION:Everyone is welcome to come. Activities for both kids and adults. Adult Dance on the 28th and Kid’s Dance on the 29th + way more! \nGeneral Admission is FREE but Please Grab your Ticket Here: https://www.eventbrite.com/e/rock-lake-halloween-spooktacular-shindig-tickets-745605404837?aff=oddtdtcreator \nDate: Oct 28\, 2023 – Oct 29\, 2023 \nTime: 11:00 AM – Till wearwolves come out \nLocation: Rock Lake Earth Lodge \nGet ready for a frightfully fun weekend at the Rock Lake Halloween Spooktacular ShinDig! Join us at the Rock Lake Earth Lodge in Rock Lake Provincial Park\, Rock Lake\, AB\, Canada. This in-person event promises a spooktacular time for all ages. Dress up in your most creative costume and prepare for a night of thrilling activities\, including vendors\, readings\,photo booth\, face painting\, crafts\, contests\, and a bone-chilling dance party for both Kids and Adults. Don’t forget to bring your appetite\, as there will be delicious treats and refreshments available. Get into the Halloween spirit and join us for a night of ghoulishly good fun! \nOct 28 & 29 \n[11 am – 7pm] \n🧙‍♀️Vendors Market  \n(Vendor Spots are FREE) \n-Face painting available  \n-Photo Booth area for family pictures or besties 📸 \n-Readings are available ON-SITE! 🪬 \n-Craft corner for all to enjoy \nOct 28  \n [7-9pm] \n🌕Full Moon Ceremony  \nBy Donation  \nPlease bring your journal and pen \nOct 28  \n[9-11pm]  \nADULTS ONLY🕺💃🪩 Dance Party  \n*Costumes Required \nDJ BroShakes will be Levitating the Lodge that night! \nOct 29 \n🪄Craft Workshop for Enhancing Boundaries & Protection happening at 2 different times:  \n[11-1pm] \n& \n[7-9pm] \n$45 per guest \n*Must be 14 years old to participate! \nOct 29  \n[4-8pm] \n🕸️Family Costume Dance Party 👨‍👩‍👧‍👧 \n\n——— \nDJ BroShakes will be having all the little goblins on the boogie floor! Family based fun here! \nWe also are looking to help and support our community!  \n🤲If you have any non perishable food items please bring and those who have new or slightly used coats for kids to help out before the winter season begins! It’s a huge help for families in need! 🙏 \n🎙️Are you a vendor and wanting to come out for FREE CONTACT US ASAP TO PROMOTE!  \n🏡⛰️If you are looking to book a cabin or room please contact us at 825 600 5161 or email info@rocklakeearthlodge.com  \nThank you all!  \nSee you soooonn 🎃👻🕷️
URL:https://rocklakeearthlodge.com/special-event/rock-lake-halloween-spooktacular-shindig/
LOCATION:Rock Lake Earth Lodge\, Rock Lake\, AB\, T0E 0C0\, Canada
ORGANIZER;CN="Rock Lake Earth Lodge":MAILTO:info@rocklakearthlodge.com
END:VEVENT
END:VCALENDAR